BEGIN:VCALENDAR
VERSION:2.0
PRODID:-//Asociación para el Desarrollo de Basale Stimulation® - ECPv6.12.0//NONSGML v1.0//EN
CALSCALE:GREGORIAN
METHOD:PUBLISH
X-ORIGINAL-URL:https://www.basale-stimulation.es
X-WR-CALDESC:Eventos para Asociación para el Desarrollo de Basale Stimulation®
REFRESH-INTERVAL;VALUE=DURATION:PT1H
X-Robots-Tag:noindex
X-PUBLISHED-TTL:PT1H
BEGIN:VTIMEZONE
TZID:Europe/Madrid
BEGIN:DAYLIGHT
TZOFFSETFROM:+0100
TZOFFSETTO:+0200
TZNAME:CEST
DTSTART:20230326T010000
END:DAYLIGHT
BEGIN:STANDARD
TZOFFSETFROM:+0200
TZOFFSETTO:+0100
TZNAME:CET
DTSTART:20231029T010000
END:STANDARD
END:VTIMEZONE
BEGIN:VEVENT
DTSTART;TZID=Europe/Madrid:20230414T090000
DTEND;TZID=Europe/Madrid:20230414T150000
DTSTAMP:20260419T201632
CREATED:20230111T171525Z
LAST-MODIFIED:20230111T172426Z
UID:1909-1681462800-1681484400@www.basale-stimulation.es
SUMMARY:Curso de profundización de Basale Stimulation© nach prof. A. Fröhlich
DESCRIPTION:Curso: Abierto\n\nCurso de profundización de Basale Stimulation© nach prof. A. Fröhlich\n\nDirigido: Este curso lo organiza ACRA y no marca a quien va dirigido. Consultar a ACRA\nFechas: 14\, 21\, 28 de abril y 5 de mayo\nHorario: de 9:00 a 15:00\nDuración: 24h\nModalidad: Presencial\nDonde se hace: ACRA – Associació Catalana de Recursos Assistencials\nCalàbria\, 236-240 (local 1) – 08029 Barcelona\nTel 93 414 75 52 (centraleta ACRA)\nTel 93 414 11 51 (centraleta Formació)\nacra@acra.cat\nPrecio: 310€ socis // 390€ no socis\nPara inscripción o mas información: https://www.acra.cat/aprofundiment-en-basale-stimulation-estimulaci%C3%B3-basal-nivell-avan%C3%A7at-_884051#default
URL:https://www.basale-stimulation.es/event/curso-de-profundizacion-de-basale-stimulation-nach-prof-a-frohlich/2023-04-14/
LOCATION:ACRA\, Calàbria\, 236-240 (local 1)\, Barcelona\, 08029\, España
CATEGORIES:Abierto,Profundización
ORGANIZER;CN="Marta Not":MAILTO:marta.not@basale-stimulation.es
END:VEVENT
BEGIN:VEVENT
DTSTART;TZID=Europe/Madrid:20230224T090000
DTEND;TZID=Europe/Madrid:20230224T150000
DTSTAMP:20260419T201632
CREATED:20230111T171032Z
LAST-MODIFIED:20230204T142314Z
UID:1903-1677229200-1677250800@www.basale-stimulation.es
SUMMARY:Curso Básico de Basale Stimulation© nach prof. A. Fröhlich. 24 de febrero y 3\, 17\, 31 de marzo\, Barcelona. CURSO ABIERTO
DESCRIPTION:Curso: Abierto\n\nCurso Básico de Basale Stimulation© nach prof. A. Fröhlich\n\nDirigido: Este curso lo organiza ACRA y no marca a quien va dirigido. Consultar a ACRA\nFechas: 24 de febrero y 3\, 17\, 31 de marzo\nHorario: de 9:00 a 15:00\nDuración: 24h\nModalidad: Presencial\nDonde se hace: ACRA – Associació Catalana de Recursos Assistencials\nCalàbria\, 236-240 (local 1) – 08029 Barcelona\nTel 93 414 75 52 (centraleta ACRA)\nTel 93 414 11 51 (centraleta Formació)\nacra@acra.cat\nPrecio: 310€ socis // 390€ no socis\nPara inscripción o mas información: https://www.acra.cat/basale-stimulation-nach-prof-dr-fr%C3%B6hlich-estimulaci%C3%B3-basal-nivell-b%C3%A0sic-_881199
URL:https://www.basale-stimulation.es/event/curso-basico-de-basale-stimulation-nach-prof-a-frohlich-24-de-febrero-y-3-17-31-de-marzo-barcelona-curso-abierto/2023-02-24/
LOCATION:ACRA\, Calàbria\, 236-240 (local 1)\, Barcelona\, 08029\, España
CATEGORIES:Abierto,Básico
ORGANIZER;CN="Marta Not":MAILTO:marta.not@basale-stimulation.es
END:VEVENT
END:VCALENDAR