BEGIN:VCALENDAR
VERSION:2.0
PRODID:-//Asociación para el Desarrollo de Basale Stimulation® - ECPv6.12.0//NONSGML v1.0//EN
CALSCALE:GREGORIAN
METHOD:PUBLISH
X-ORIGINAL-URL:https://www.basale-stimulation.es
X-WR-CALDESC:Eventos para Asociación para el Desarrollo de Basale Stimulation®
REFRESH-INTERVAL;VALUE=DURATION:PT1H
X-Robots-Tag:noindex
X-PUBLISHED-TTL:PT1H
BEGIN:VTIMEZONE
TZID:Europe/Madrid
BEGIN:DAYLIGHT
TZOFFSETFROM:+0100
TZOFFSETTO:+0200
TZNAME:CEST
DTSTART:20210328T010000
END:DAYLIGHT
BEGIN:STANDARD
TZOFFSETFROM:+0200
TZOFFSETTO:+0100
TZNAME:CET
DTSTART:20211031T010000
END:STANDARD
END:VTIMEZONE
BEGIN:VEVENT
DTSTART;VALUE=DATE:20210616
DTEND;VALUE=DATE:20210619
DTSTAMP:20260419T193719
CREATED:20210617T174747Z
LAST-MODIFIED:20210617T174839Z
UID:1262-1623801600-1624060799@www.basale-stimulation.es
SUMMARY:Curso Básico de Basale Stimulation® CURSO ABIERTO\, ¡HAY PLAZAS!
DESCRIPTION:Asociación\nSobre el curso\nBasale Stimulation® parte de la idea de que\, a pesar de las graves limitaciones que pueda tener una persona\, nuevos procesos de desarrollo son posibles y tienen sentido desde el nacimiento hasta la muerte. A partir de esta premisa\, Basale Stimulation® pretende hacer ofertas sin pedir condiciones previas. Así se ofrece como un concepto adecuado para un amplio abanico de personas (niños pluridiscapacitados\, personas con una demencia\, personas en coma\, pacientes somnolientos\, personas con enfermedades mentales\, con daño cerebral …). Este curso pretende reflexionar sobre lo que necesita una persona gravemente discapacitada y en cómo la podemos acompañar en su camino de vida a través de aspectos básicos como son: la percepción somática\, vibratoria y vestibular y la hipótesis del desarrollo perceptivo vinculado a estas tres áreas. \n  \n1. Concepto de Basale Stimulation (B.S): fundamentos y evolución \nInicio y origen del concepto \nEl primer modelo teórico B.S. en España y Europa \nDefinición pluridiscapacidad \nImportancia de la estructura \nDefinición de las capacidades según A. Fröhlich \nDefinición del desarrollo \n2. El concepto de Basale Stimulation: percepción \nDefinición percepción \nProceso de percepción \n3. La comunicación en la intervención \nDefinición de comunicación \nCanales de comunicación habituales y específicos en personas con discapacidad grave \n4. El concepto de Basale Stimulation: Globalidad \n5. La estimulación somática: \nLas manos como herramienta privilegiada para la intervención. \nLa importancia del tacto y el contacto en la Basale Stimulation. \n6. La estimulación vestibular \n7. La estimulación vibratoria \n8. Los temas esenciales para planificar una intervención.
URL:https://www.basale-stimulation.es/event/curso-basico-de-basale-stimulation-6/
LOCATION:Clinica Neuroal Almeria\, Almería\, España
ATTACH;FMTTYPE=image/jpeg:https://www.basale-stimulation.es/wp-content/uploads/2021/06/curso-barbara-almeria.jpg
ORGANIZER;CN="B%C3%A1rbara Roller":MAILTO:barbara.roller@basale-stimulation.es
END:VEVENT
END:VCALENDAR